BEGIN:VCALENDAR
VERSION:2.0
PRODID:-//MurphyCreek - ECPv6.15.20//NONSGML v1.0//EN
CALSCALE:GREGORIAN
METHOD:PUBLISH
X-ORIGINAL-URL:https://murphycreek.org
X-WR-CALDESC:Events for MurphyCreek
REFRESH-INTERVAL;VALUE=DURATION:PT1H
X-Robots-Tag:noindex
X-PUBLISHED-TTL:PT1H
BEGIN:VTIMEZONE
TZID:America/Denver
BEGIN:DAYLIGHT
TZOFFSETFROM:-0700
TZOFFSETTO:-0600
TZNAME:MDT
DTSTART:20250309T090000
END:DAYLIGHT
BEGIN:STANDARD
TZOFFSETFROM:-0600
TZOFFSETTO:-0700
TZNAME:MST
DTSTART:20251102T080000
END:STANDARD
BEGIN:DAYLIGHT
TZOFFSETFROM:-0700
TZOFFSETTO:-0600
TZNAME:MDT
DTSTART:20260308T090000
END:DAYLIGHT
BEGIN:STANDARD
TZOFFSETFROM:-0600
TZOFFSETTO:-0700
TZNAME:MST
DTSTART:20261101T080000
END:STANDARD
BEGIN:DAYLIGHT
TZOFFSETFROM:-0700
TZOFFSETTO:-0600
TZNAME:MDT
DTSTART:20270314T090000
END:DAYLIGHT
BEGIN:STANDARD
TZOFFSETFROM:-0600
TZOFFSETTO:-0700
TZNAME:MST
DTSTART:20271107T080000
END:STANDARD
END:VTIMEZONE
BEGIN:VEVENT
DTSTART;TZID=America/Denver:20260513T180000
DTEND;TZID=America/Denver:20260513T200000
DTSTAMP:20260423T121341
CREATED:20260319T205016Z
LAST-MODIFIED:20260326T162501Z
UID:2227-1778695200-1778702400@murphycreek.org
SUMMARY:Board Meeting
DESCRIPTION:
URL:https://murphycreek.org/event/board-meeting-17/
LOCATION:Murphy Creek Community Center\, 23801 E Florida Ave\, Aurora\, CO\, 80018\, United States
CATEGORIES:Board Meeting
END:VEVENT
END:VCALENDAR