BEGIN:VCALENDAR
VERSION:2.0
PRODID:-//MurphyCreek - ECPv6.15.20//NONSGML v1.0//EN
CALSCALE:GREGORIAN
METHOD:PUBLISH
X-WR-CALNAME:MurphyCreek
X-ORIGINAL-URL:https://murphycreek.org
X-WR-CALDESC:Events for MurphyCreek
REFRESH-INTERVAL;VALUE=DURATION:PT1H
X-Robots-Tag:noindex
X-PUBLISHED-TTL:PT1H
BEGIN:VTIMEZONE
TZID:America/Denver
BEGIN:DAYLIGHT
TZOFFSETFROM:-0700
TZOFFSETTO:-0600
TZNAME:MDT
DTSTART:20240310T090000
END:DAYLIGHT
BEGIN:STANDARD
TZOFFSETFROM:-0600
TZOFFSETTO:-0700
TZNAME:MST
DTSTART:20241103T080000
END:STANDARD
BEGIN:DAYLIGHT
TZOFFSETFROM:-0700
TZOFFSETTO:-0600
TZNAME:MDT
DTSTART:20250309T090000
END:DAYLIGHT
BEGIN:STANDARD
TZOFFSETFROM:-0600
TZOFFSETTO:-0700
TZNAME:MST
DTSTART:20251102T080000
END:STANDARD
BEGIN:DAYLIGHT
TZOFFSETFROM:-0700
TZOFFSETTO:-0600
TZNAME:MDT
DTSTART:20260308T090000
END:DAYLIGHT
BEGIN:STANDARD
TZOFFSETFROM:-0600
TZOFFSETTO:-0700
TZNAME:MST
DTSTART:20261101T080000
END:STANDARD
BEGIN:DAYLIGHT
TZOFFSETFROM:-0700
TZOFFSETTO:-0600
TZNAME:MDT
DTSTART:20270314T090000
END:DAYLIGHT
BEGIN:STANDARD
TZOFFSETFROM:-0600
TZOFFSETTO:-0700
TZNAME:MST
DTSTART:20271107T080000
END:STANDARD
END:VTIMEZONE
BEGIN:VEVENT
DTSTART;TZID=America/Denver:20260221T130000
DTEND;TZID=America/Denver:20260221T160000
DTSTAMP:20260423T134351
CREATED:20260218T030219Z
LAST-MODIFIED:20260218T031031Z
UID:2190-1771678800-1771689600@murphycreek.org
SUMMARY:Board Working Session
DESCRIPTION:See aganda at https://murphycreek.org/wp-content/uploads/2026/02/MCM_Agenda_022126-Working-Session-Meeting.pdf 
URL:https://murphycreek.org/event/board-working-session/
LOCATION:Murphy Creek Tavern\, LOCATION: 1700 S Old Tom Morris Road\, Aurora\, CO\, 80018\, United States
CATEGORIES:Board Working Session
END:VEVENT
BEGIN:VEVENT
DTSTART;TZID=America/Denver:20251112T180000
DTEND;TZID=America/Denver:20251112T200000
DTSTAMP:20260423T134351
CREATED:20251106T191232Z
LAST-MODIFIED:20251106T191916Z
UID:2113-1762970400-1762977600@murphycreek.org
SUMMARY:Working Session
DESCRIPTION:The Board of Directors of the Murphy Creek Metropolitan District #3 will be holding a working session\, where no action will be taken\, on Wednesday\, November 12\, 2025\, at 6:00 p.m. at the Community Center in the conference room.
URL:https://murphycreek.org/event/working-session/
LOCATION:Murphy Creek Community Center\, 23801 E Florida Ave\, Aurora\, CO\, 80018\, United States
CATEGORIES:Board Working Session
END:VEVENT
END:VCALENDAR